BEGIN:VCALENDAR
VERSION:2.0
PRODID:-//Huis Wittevrongel - ECPv6.15.20//NONSGML v1.0//EN
CALSCALE:GREGORIAN
METHOD:PUBLISH
X-ORIGINAL-URL:https://huiswittevrongel.be
X-WR-CALDESC:Events voor Huis Wittevrongel
REFRESH-INTERVAL;VALUE=DURATION:PT1H
X-Robots-Tag:noindex
X-PUBLISHED-TTL:PT1H
BEGIN:VTIMEZONE
TZID:Europe/Brussels
BEGIN:DAYLIGHT
TZOFFSETFROM:+0100
TZOFFSETTO:+0200
TZNAME:CEST
DTSTART:20220327T010000
END:DAYLIGHT
BEGIN:STANDARD
TZOFFSETFROM:+0200
TZOFFSETTO:+0100
TZNAME:CET
DTSTART:20221030T010000
END:STANDARD
BEGIN:DAYLIGHT
TZOFFSETFROM:+0100
TZOFFSETTO:+0200
TZNAME:CEST
DTSTART:20230326T010000
END:DAYLIGHT
BEGIN:STANDARD
TZOFFSETFROM:+0200
TZOFFSETTO:+0100
TZNAME:CET
DTSTART:20231029T010000
END:STANDARD
BEGIN:DAYLIGHT
TZOFFSETFROM:+0100
TZOFFSETTO:+0200
TZNAME:CEST
DTSTART:20240331T010000
END:DAYLIGHT
BEGIN:STANDARD
TZOFFSETFROM:+0200
TZOFFSETTO:+0100
TZNAME:CET
DTSTART:20241027T010000
END:STANDARD
END:VTIMEZONE
BEGIN:VEVENT
DTSTART;TZID=Europe/Brussels:20230721T000000
DTEND;TZID=Europe/Brussels:20230721T000000
DTSTAMP:20260425T161345
CREATED:20230307T150916Z
LAST-MODIFIED:20240514T181524Z
UID:16071-1689897600-1689897600@huiswittevrongel.be
SUMMARY:JULI GESLOTEN
DESCRIPTION:JULI GESLOTEN
URL:https://huiswittevrongel.be/agenda/juli-gesloten/
LOCATION:Oostveldstraat 332\, 9900 Eeklo\, Oostveldstraat 332\,\, Eeklo\, 9900\, Belgium
CATEGORIES:Workshop
ORGANIZER;CN="Huis Wittevrongel":MAILTO:info@huiswittevrongel.be
END:VEVENT
END:VCALENDAR