BEGIN:VCALENDAR
VERSION:2.0
PRODID:-//Huis Wittevrongel - ECPv6.15.20//NONSGML v1.0//EN
CALSCALE:GREGORIAN
METHOD:PUBLISH
X-ORIGINAL-URL:https://huiswittevrongel.be
X-WR-CALDESC:Events voor Huis Wittevrongel
REFRESH-INTERVAL;VALUE=DURATION:PT1H
X-Robots-Tag:noindex
X-PUBLISHED-TTL:PT1H
BEGIN:VTIMEZONE
TZID:Europe/Brussels
BEGIN:STANDARD
TZOFFSETFROM:+0100
TZOFFSETTO:+0100
TZNAME:CET
DTSTART:19690101T000000
END:STANDARD
END:VTIMEZONE
BEGIN:VEVENT
DTSTART;TZID=Europe/Brussels:20260424T041213
DTEND;TZID=Europe/Brussels:20260424T041213
DTSTAMP:20260424T041213
CREATED:20230307T150818Z
LAST-MODIFIED:20240514T182041Z
UID:16054-0-0@huiswittevrongel.be
SUMMARY:DESSERTKOEKJES NOG 2 PLAATSEN
DESCRIPTION:DESSERTKOEKJES NOG 2 PLAATSEN
URL:https://huiswittevrongel.be/agenda/dessertkoekjes-nog-2-plaatsen/
LOCATION:Oostveldstraat 332\, 9900 Eeklo\, Oostveldstraat 332\,\, Eeklo\, 9900\, Belgium
CATEGORIES:Workshop
ORGANIZER;CN="Huis Wittevrongel":MAILTO:info@huiswittevrongel.be
END:VEVENT
END:VCALENDAR