BEGIN:VCALENDAR
VERSION:2.0
PRODID:-//Huis Wittevrongel - ECPv6.15.20//NONSGML v1.0//EN
CALSCALE:GREGORIAN
METHOD:PUBLISH
X-WR-CALNAME:Huis Wittevrongel
X-ORIGINAL-URL:https://huiswittevrongel.be
X-WR-CALDESC:Events voor Huis Wittevrongel
REFRESH-INTERVAL;VALUE=DURATION:PT1H
X-Robots-Tag:noindex
X-PUBLISHED-TTL:PT1H
BEGIN:VTIMEZONE
TZID:Europe/Brussels
BEGIN:STANDARD
TZOFFSETFROM:+0100
TZOFFSETTO:+0100
TZNAME:CET
DTSTART:19690101T000000
END:STANDARD
END:VTIMEZONE
BEGIN:VEVENT
DTSTART;TZID=Europe/Brussels:20260423T225703
DTEND;TZID=Europe/Brussels:20260423T225703
DTSTAMP:20260423T225703
CREATED:20230307T150841Z
LAST-MODIFIED:20240514T182219Z
UID:16063-0-0@huiswittevrongel.be
SUMMARY:OFYR DEMO DOOR GUY WEYTS
DESCRIPTION:
URL:https://huiswittevrongel.be/agenda/ofyr-demo-door-guy-weyts/
LOCATION:Oostveldstraat 332\, 9900 Eeklo\, Oostveldstraat 332\,\, Eeklo\, 9900\, Belgium
CATEGORIES:Workshop
ORGANIZER;CN="Huis Wittevrongel":MAILTO:info@huiswittevrongel.be
END:VEVENT
BEGIN:VEVENT
DTSTART;TZID=Europe/Brussels:20260423T225703
DTEND;TZID=Europe/Brussels:20260423T225703
DTSTAMP:20260423T225703
CREATED:20230307T150818Z
LAST-MODIFIED:20240514T182041Z
UID:16054-0-0@huiswittevrongel.be
SUMMARY:DESSERTKOEKJES NOG 2 PLAATSEN
DESCRIPTION:DESSERTKOEKJES NOG 2 PLAATSEN
URL:https://huiswittevrongel.be/agenda/dessertkoekjes-nog-2-plaatsen/
LOCATION:Oostveldstraat 332\, 9900 Eeklo\, Oostveldstraat 332\,\, Eeklo\, 9900\, Belgium
CATEGORIES:Workshop
ORGANIZER;CN="Huis Wittevrongel":MAILTO:info@huiswittevrongel.be
END:VEVENT
BEGIN:VEVENT
DTSTART;TZID=Europe/Brussels:20260423T225703
DTEND;TZID=Europe/Brussels:20260423T225703
DTSTAMP:20260423T225703
CREATED:20230307T150817Z
LAST-MODIFIED:20240514T182055Z
UID:16052-0-0@huiswittevrongel.be
SUMMARY:PISTOLETS EN SANDWICHES VOLZET
DESCRIPTION:PISTOLETS EN SANDWICHES VOLZET
URL:https://huiswittevrongel.be/agenda/pistolets-en-sandwiches-volzet/
LOCATION:Oostveldstraat 332\, 9900 Eeklo\, Oostveldstraat 332\,\, Eeklo\, 9900\, Belgium
CATEGORIES:Workshop
ORGANIZER;CN="Huis Wittevrongel":MAILTO:info@huiswittevrongel.be
END:VEVENT
BEGIN:VEVENT
DTSTART;TZID=Europe/Brussels:20260423T225703
DTEND;TZID=Europe/Brussels:20260423T225703
DTSTAMP:20260423T225703
CREATED:20230307T150813Z
LAST-MODIFIED:20240514T182100Z
UID:16050-0-0@huiswittevrongel.be
SUMMARY:BOKKENPOOTJES EN LANGE VINGERS VOLZET
DESCRIPTION:BOKKENPOOTJES EN LANGE VINGERS VOLZET
URL:https://huiswittevrongel.be/agenda/bokkenpootjes-en-lange-vingers-volzet/
LOCATION:Oostveldstraat 332\, 9900 Eeklo\, Oostveldstraat 332\,\, Eeklo\, 9900\, Belgium
CATEGORIES:Workshop
ORGANIZER;CN="Huis Wittevrongel":MAILTO:info@huiswittevrongel.be
END:VEVENT
BEGIN:VEVENT
DTSTART;TZID=Europe/Brussels:20260423T225703
DTEND;TZID=Europe/Brussels:20260423T225703
DTSTAMP:20260423T225703
CREATED:20230307T150810Z
LAST-MODIFIED:20240514T182108Z
UID:16048-0-0@huiswittevrongel.be
SUMMARY:DEMO OFYR EN THE BASTARD
DESCRIPTION:Ontdek de mogelijkheden van zowel The Bastard kamado als het OFYR kooktoestel. Geniet samen met ons van het buitenleven tijdens deze GRATIS BBQ DEMO en ontdek en proef het enthousiasme van onze BBQ-gek Filiep.\nInschrijven niet verplicht.
URL:https://huiswittevrongel.be/agenda/demo-ofyr-en-the-bastard/
LOCATION:Oostveldstraat 332\, 9900 Eeklo\, Oostveldstraat 332\,\, Eeklo\, 9900\, Belgium
CATEGORIES:Workshop
ORGANIZER;CN="Huis Wittevrongel":MAILTO:info@huiswittevrongel.be
END:VEVENT
BEGIN:VEVENT
DTSTART;TZID=Europe/Brussels:20260423T225703
DTEND;TZID=Europe/Brussels:20260423T225703
DTSTAMP:20260423T225703
CREATED:20230307T150808Z
LAST-MODIFIED:20240514T182111Z
UID:16047-0-0@huiswittevrongel.be
SUMMARY:PAASGEBAK NOG 3 PLAATSEN
DESCRIPTION:Leer tijdens deze workshop een heerlijk paasgebak op basis van biscuit te creëren. Haal alvast ook uw boetseertalenten boven voor het maken van leuke paasfiguurtjes en uiteraard werken we ook graag eens met chocolade tijdens deze workshop. Verras bij thuiskomst uw huisgenoten met deze heerlijke creatie.Inbegrepen tijdens deze workshop:\nReceptenbundel\nKoffie en water\nIngrediënten\nPaasgebak/taart voor 6 personen\nPrijs: 60
URL:https://huiswittevrongel.be/agenda/paasgebak-nog-3-plaatsen/
LOCATION:Oostveldstraat 332\, 9900 Eeklo\, Oostveldstraat 332\,\, Eeklo\, 9900\, Belgium
CATEGORIES:Workshop
ORGANIZER;CN="Huis Wittevrongel":MAILTO:info@huiswittevrongel.be
END:VEVENT
END:VCALENDAR