BEGIN:VCALENDAR
VERSION:2.0
PRODID:-//Huis Wittevrongel - ECPv6.15.20//NONSGML v1.0//EN
CALSCALE:GREGORIAN
METHOD:PUBLISH
X-ORIGINAL-URL:https://huiswittevrongel.be
X-WR-CALDESC:Events voor Huis Wittevrongel
REFRESH-INTERVAL;VALUE=DURATION:PT1H
X-Robots-Tag:noindex
X-PUBLISHED-TTL:PT1H
BEGIN:VTIMEZONE
TZID:Europe/Brussels
BEGIN:DAYLIGHT
TZOFFSETFROM:+0100
TZOFFSETTO:+0200
TZNAME:CEST
DTSTART:20220327T010000
END:DAYLIGHT
BEGIN:STANDARD
TZOFFSETFROM:+0200
TZOFFSETTO:+0100
TZNAME:CET
DTSTART:20221030T010000
END:STANDARD
BEGIN:DAYLIGHT
TZOFFSETFROM:+0100
TZOFFSETTO:+0200
TZNAME:CEST
DTSTART:20230326T010000
END:DAYLIGHT
BEGIN:STANDARD
TZOFFSETFROM:+0200
TZOFFSETTO:+0100
TZNAME:CET
DTSTART:20231029T010000
END:STANDARD
BEGIN:DAYLIGHT
TZOFFSETFROM:+0100
TZOFFSETTO:+0200
TZNAME:CEST
DTSTART:20240331T010000
END:DAYLIGHT
BEGIN:STANDARD
TZOFFSETFROM:+0200
TZOFFSETTO:+0100
TZNAME:CET
DTSTART:20241027T010000
END:STANDARD
BEGIN:DAYLIGHT
TZOFFSETFROM:+0100
TZOFFSETTO:+0200
TZNAME:CEST
DTSTART:20250330T010000
END:DAYLIGHT
BEGIN:STANDARD
TZOFFSETFROM:+0200
TZOFFSETTO:+0100
TZNAME:CET
DTSTART:20251026T010000
END:STANDARD
BEGIN:DAYLIGHT
TZOFFSETFROM:+0100
TZOFFSETTO:+0200
TZNAME:CEST
DTSTART:20260329T010000
END:DAYLIGHT
BEGIN:STANDARD
TZOFFSETFROM:+0200
TZOFFSETTO:+0100
TZNAME:CET
DTSTART:20261025T010000
END:STANDARD
BEGIN:DAYLIGHT
TZOFFSETFROM:+0100
TZOFFSETTO:+0200
TZNAME:CEST
DTSTART:20270328T010000
END:DAYLIGHT
BEGIN:STANDARD
TZOFFSETFROM:+0200
TZOFFSETTO:+0100
TZNAME:CET
DTSTART:20271031T010000
END:STANDARD
END:VTIMEZONE
BEGIN:VEVENT
DTSTART;TZID=Europe/Brussels:20231124T170000
DTEND;TZID=Europe/Brussels:20231124T190000
DTSTAMP:20260425T203007
CREATED:20231027T123108Z
LAST-MODIFIED:20240514T181215Z
UID:18130-1700845200-1700852400@huiswittevrongel.be
SUMMARY:BBQ AFTER WORK DEMO
DESCRIPTION:🔥 Kom op vrijdag 24 november van 17.00 u tot 19.00 u naar onze gezellige Afterwork BBQ demo! 🍖 \nOntdek de ongekende mogelijkheden van The Bastard kamado en de OFYR plancha\, en laat je verrassen door deze bijzondere BBQ-toestellen – niet alleen in de zomer\, maar ook in de winter. \nOnze getalenteerde BBQ-chefs zullen heerlijke gerechten bereiden die je ter plaatse kunt proeven\, vergezeld van een lekker drankje. Het wordt een smakelijk avontuur! \nEn dat is nog niet alles! 🎉 Profiteer van onze speciale The Bastard winterdeal\, waarbij je voor slechts €1359 een The Bastard Urban L kunt aanschaffen\, inclusief 5 accessoires. Dat is een ongelooflijke besparing van maar liefst €485\,75! \nWij nodigen jou en je vrienden graag uit voor deze gezellige avond vol smaak en gezelligheid. Zet het in je agenda en we zien je daar! 🌟 \nP.S. Verwacht een gezellige\, familiale sfeer zoals je gewend bent van onze winkel. 😊
URL:https://huiswittevrongel.be/agenda/bbq-after-work-demo/
LOCATION:Oostveldstraat 332\, 9900 Eeklo\, Oostveldstraat 332\,\, Eeklo\, 9900\, Belgium
CATEGORIES:Demo
ORGANIZER;CN="Huis Wittevrongel":MAILTO:info@huiswittevrongel.be
END:VEVENT
BEGIN:VEVENT
DTSTART;TZID=Europe/Brussels:20260409T083000
DTEND;TZID=Europe/Brussels:20260412T170000
DTSTAMP:20260425T203007
CREATED:20260324T165333Z
LAST-MODIFIED:20260324T165333Z
UID:32500-1775723400-1776013200@huiswittevrongel.be
SUMMARY:Lente-opendeur 9-10-11-12 april
DESCRIPTION:🌸 Lente-opendeurdagen – 9\, 10\, 11 & 12 april 🌸⏰ Telkens van 08.30 u tot 17.00 u (ja hoor\, ook op zondag!) \nHet is weer zover… onze lente-opendeurdagen staan voor de deur en we hebben er dit jaar écht iets moois van gemaakt! Kom langs en laat je verrassen door tal van leuke activiteiten\, proevertjes en natuurlijk… stevige promoties 😉 \n🍞 Voor de thuisbakkers\nWe stellen met trots ons nieuwe aanbod all-in bakmixen en gebakmixen voor. Superhandig én overheerlijk!Ook wie glutenvrij bakt\, kan bij ons z’n hart ophalen met een uitgebreid en smakelijk assortiment. \n👉 Actie: 3+1 gratis op alle brood- en gebakmixen (goedkoopste gratis) \nDaarnaast kan je onze kneders ontdekken van Ooni\, Maxima en Xavis.👉 Bij aankoop van een toestel: €50 cadeauwaarde aan bakproducten👉 Koop je een vloeroven? Dan krijg je zelfs €100 cadeauwaarde! \n\n🔥 BBQ & buiten koken\nIn onze BBQ-afdeling staan toppers zoals The Bastard\, OFYR en Gozney voor je klaar.Nieuw in ons gamma: pizzaovens van Ooni en gasbarbecues van Napoleon. \n👉 Mooie promo’s te rapen voor elke BBQ-liefhebber! \n\n🥩 Diepvries & proevertjes\nOnze diepvriesafdeling breidt verder uit met topkwaliteit vlees zoals:\ntomahawk\, T-bone\, Iberico\, ribfingers\, mergpijpjes en arrosticini’s. \n👉 En het beste nieuws? In het weekend kan je proeven van dit lekkers! \n\n🐶🐱 Voor je viervoeters\n👉 10% korting op alle honden- en kattenvoeding \nOp zaterdag komt trimsalon QuiVi langs:✂️ Gratis nageltjes knippen👀 Oren en ogen reinigen \nWanneer? Jolien is aanwezig van 14.00 u tot 16.00 u. \n\n🐔 Neerhofdieren\nNieuw in ons assortiment: Katoos dierenvoeding.Een uitgebreid gamma voor kippen\, schapen\, geiten\, herten en meer – kwaliteit aan scherpe prijzen. \n👉 Kom zeker de promo’s ontdekken! \n\n🌱 Tuinplezier\nOok de tuinliefhebbers komen aan hun trekken: \n\nPotgrond: 2 x 60L kopen + 50L gratis\nVivimus bodemverbeteraar: 5+1 gratis\nGazon Pur: gratis herstel graszaad\nVital Green: gratis emmer\nAqua Balance: gratis tuinzak\n\n\n👉 Kortom: voor elk wat wils\, van bakken tot BBQ\, van tuin tot dier!Kom langs\, snuif de lentesfeer op en profiteer van onze acties. \nWe kijken ernaar uit om jullie te verwelkomen! 🌼
URL:https://huiswittevrongel.be/agenda/lente-opendeur-9-10-11-12-april/
LOCATION:Oostveldstraat 332\, 9900 Eeklo\, Oostveldstraat 332\,\, Eeklo\, 9900\, Belgium
ORGANIZER;CN="Huis Wittevrongel":MAILTO:info@huiswittevrongel.be
END:VEVENT
END:VCALENDAR